BEGIN:VCALENDAR
VERSION:2.0
PRODID:-//Club Oasis - ECPv5.11.0//NONSGML v1.0//EN
CALSCALE:GREGORIAN
METHOD:PUBLISH
X-WR-CALNAME:Club Oasis
X-ORIGINAL-URL:https://www.cluboasisaa.org
X-WR-CALDESC:Events for Club Oasis
BEGIN:VTIMEZONE
TZID:UTC
BEGIN:STANDARD
TZOFFSETFROM:+0000
TZOFFSETTO:+0000
TZNAME:UTC
DTSTART:20250101T000000
END:STANDARD
END:VTIMEZONE
BEGIN:VEVENT
DTSTART;TZID=UTC:20250725T190000
DTEND;TZID=UTC:20250725T210000
DTSTAMP:20260425T125347
CREATED:20230712T223948Z
LAST-MODIFIED:20250722T203043Z
UID:2233-1753470000-1753477200@www.cluboasisaa.org
SUMMARY:Oasis Bowling in Jupiter
DESCRIPTION:This event will happen in July\, the exact date is 7/25 at 7:00 PM! \n  \nCome Bowl with us! Oasis is hosting a bowling party at Bowlero in Jupiter! Purchase tickets at the Coffee Shop! There are a limited amount of tickets\, so purchase soon! Ticket 30 per ticket! Includes appetizer and soft drinks! \n  \n  \nsign up at the snack bar or speak to sean!!
URL:https://www.cluboasisaa.org/event/oasis-bowling-in-jupiter/
LOCATION:Bowlero Jupiter\, 350 Maplewood Dr\, Jupiter\, fl\, 33458
ATTACH;FMTTYPE=image/png:https://www.cluboasisaa.org/wp-content/uploads/2025/07/1000015979.png
ORGANIZER;CN="Club%20Oasis%20Inc.":MAILTO:cluboasisbod@gmail.com
END:VEVENT
BEGIN:VEVENT
DTSTART;TZID=UTC:20250727T100000
DTEND;TZID=UTC:20250727T120000
DTSTAMP:20260425T125347
CREATED:20231011T234845Z
LAST-MODIFIED:20250722T204618Z
UID:2283-1753610400-1753617600@www.cluboasisaa.org
SUMMARY:Oasis Community Clean Up!
DESCRIPTION:Please come help Oasis keep our property clean! Club Oasis is having a voluntary property clean up Every LAST Saturday of the month! Just show up ready to get dirty and fellowship!   All are welcome!
URL:https://www.cluboasisaa.org/event/oasis-community-clean-up-11/
LOCATION:Club Oasis\, 10859 PROSPERITY FARMS ROAD\, PALM BEACH GARDENS\, FL\, 33410\, United States
ATTACH;FMTTYPE=image/png:https://www.cluboasisaa.org/wp-content/uploads/2025/07/1000015978.png
ORGANIZER;CN="Club%20Oasis%20Inc.":MAILTO:cluboasisbod@gmail.com
END:VEVENT
BEGIN:VEVENT
DTSTART;VALUE=DATE:20250831
DTEND;VALUE=DATE:20250901
DTSTAMP:20260425T125347
CREATED:20240210T190450Z
LAST-MODIFIED:20250819T004817Z
UID:2336-1756598400-1756684799@www.cluboasisaa.org
SUMMARY:Founder's Day!
DESCRIPTION:Club Oasis was Founded on 08/31/1978 \nOasis is having a Founder’s Day Celebration \nFREE COFFEE!
URL:https://www.cluboasisaa.org/event/founders-day/
LOCATION:Club Oasis\, 10859 PROSPERITY FARMS ROAD\, PALM BEACH GARDENS\, FL\, 33410\, United States
ATTACH;FMTTYPE=image/png:https://www.cluboasisaa.org/wp-content/uploads/2024/02/FOUNDERS.png
ORGANIZER;CN="Club%20Oasis%20Inc.":MAILTO:cluboasisbod@gmail.com
END:VEVENT
BEGIN:VEVENT
DTSTART;TZID=UTC:20251130T130000
DTEND;TZID=UTC:20251130T170000
DTSTAMP:20260425T125347
CREATED:20240613T001538Z
LAST-MODIFIED:20250722T210227Z
UID:2476-1764507600-1764522000@www.cluboasisaa.org
SUMMARY:5th Annual Club Oasis Invades Hard Rock Stadium
DESCRIPTION:Sunday November\, 30 2025 Members of Club Oasis will be attending recovery day at Dolphins stadium \n@ 1:00 time of game is subject to change \neveryone will meet at oasis before the game and take the charter bus down to Hard Rock stadium! \n  \n  \nFood\, Fellowship and Football! \n  \ncontact Sean H for more info \n 
URL:https://www.cluboasisaa.org/event/3rd-annual-club-oasis-invades-hard-rock-stadium/
LOCATION:Hard Rock Stadium\, 347 Don Shula Dr Suite 102\, Miami gardens\, Fl\, 33056
ATTACH;FMTTYPE=image/png:https://www.cluboasisaa.org/wp-content/uploads/2025/07/1000015980.png
ORGANIZER;CN="Club%20Oasis%20Inc.":MAILTO:cluboasisbod@gmail.com
END:VEVENT
END:VCALENDAR