BEGIN:VCALENDAR
VERSION:2.0
PRODID:-//Club Oasis - ECPv5.11.0//NONSGML v1.0//EN
CALSCALE:GREGORIAN
METHOD:PUBLISH
X-WR-CALNAME:Club Oasis
X-ORIGINAL-URL:https://www.cluboasisaa.org
X-WR-CALDESC:Events for Club Oasis
BEGIN:VTIMEZONE
TZID:UTC
BEGIN:STANDARD
TZOFFSETFROM:+0000
TZOFFSETTO:+0000
TZNAME:UTC
DTSTART:20230101T000000
END:STANDARD
END:VTIMEZONE
BEGIN:VEVENT
DTSTART;TZID=UTC:20230610T080000
DTEND;TZID=UTC:20230610T170000
DTSTAMP:20260425T031739
CREATED:20230405T223402Z
LAST-MODIFIED:20230405T223402Z
UID:2222-1686384000-1686416400@www.cluboasisaa.org
SUMMARY:Way Of Life Conference!
DESCRIPTION:The “Way of Life Conference” began in 2009 as a not-for-profit event that combined speakers and workshops from AA\, Al-Anon and ACA. Each of these exceptional Programs works within the idea that “when anyone\, anywhere reaches out for help let the hand of recovery always be there. And let it begin with me”. \nThis statement exemplifies a commitment to personal growth and healing as we each discover a new “Way of Life.” \nThe purpose of this community event is so that members of the recovery community can experience workshops\, circuit speakers and fellowship — not only in their primary program\, but also\, perhaps sample what the other programs might have to offer. \nIt is our joy to provide a safe\, fun\, and educational day which brings together our extraordinary recovery community! \n  \nThis event is not hosted by Club Oasis\, but club members and members of the board will be in attendance. if you want to attend click on the link below and purchase tickets!! \nwayoflifeconference.com ————-> click on the WOL ticket tab! see you there \n  \n 
URL:https://www.cluboasisaa.org/event/way-of-life-conference/
LOCATION:Marriott Hotel in Palm Beach Gardens\, 4000 RCA Blvd 4000 RCA Boulevard\, Palm Beach Gardens\, FL\, 33410
ATTACH;FMTTYPE=image/webp:https://www.cluboasisaa.org/wp-content/uploads/2023/04/WOL-.webp
END:VEVENT
END:VCALENDAR