BEGIN:VCALENDAR
VERSION:2.0
PRODID:-//Club Oasis - ECPv5.11.0//NONSGML v1.0//EN
CALSCALE:GREGORIAN
METHOD:PUBLISH
X-WR-CALNAME:Club Oasis
X-ORIGINAL-URL:https://www.cluboasisaa.org
X-WR-CALDESC:Events for Club Oasis
BEGIN:VTIMEZONE
TZID:UTC
BEGIN:STANDARD
TZOFFSETFROM:+0000
TZOFFSETTO:+0000
TZNAME:UTC
DTSTART:20240101T000000
END:STANDARD
END:VTIMEZONE
BEGIN:VEVENT
DTSTART;TZID=UTC:20241005T183000
DTEND;TZID=UTC:20241006T210000
DTSTAMP:20260425T012538
CREATED:20230801T001644Z
LAST-MODIFIED:20240911T232513Z
UID:2239-1728153000-1728248400@www.cluboasisaa.org
SUMMARY:SATURDAY NIGHT TRIVIA @ OASIS!!
DESCRIPTION:Come join us for Trivia Night at Club Oasis! \nTrivia Starts 1st Round starts @ 6:30PM 2nd round starts @ 8:00PM \nGroups of 4 can sign up at the Snack Bar \nHotdogs and Burgers will be on the Grill! \nWinner Gets a Prize!!
URL:https://www.cluboasisaa.org/event/trivia-night-oasis/
LOCATION:Club Oasis\, 10859 PROSPERITY FARMS ROAD\, PALM BEACH GARDENS\, FL\, 33410\, United States
ATTACH;FMTTYPE=image/png:https://www.cluboasisaa.org/wp-content/uploads/2023/08/Screenshot-2024-07-10-at-7.46.25 PM.png
ORGANIZER;CN="Club%20Oasis%20Inc.":MAILTO:cluboasisbod@gmail.com
END:VEVENT
END:VCALENDAR