BEGIN:VCALENDAR
VERSION:2.0
PRODID:-//Club Oasis - ECPv5.11.0//NONSGML v1.0//EN
CALSCALE:GREGORIAN
METHOD:PUBLISH
X-WR-CALNAME:Club Oasis
X-ORIGINAL-URL:https://www.cluboasisaa.org
X-WR-CALDESC:Events for Club Oasis
BEGIN:VTIMEZONE
TZID:UTC
BEGIN:STANDARD
TZOFFSETFROM:+0000
TZOFFSETTO:+0000
TZNAME:UTC
DTSTART:20240101T000000
END:STANDARD
END:VTIMEZONE
BEGIN:VEVENT
DTSTART;TZID=UTC:20240907T140000
DTEND;TZID=UTC:20240907T200000
DTSTAMP:20260424T234013
CREATED:20230810T001408Z
LAST-MODIFIED:20240815T004849Z
UID:2266-1725717600-1725739200@www.cluboasisaa.org
SUMMARY:Recovery Night @ Marlins Park!
DESCRIPTION:Join us at loanDepot park for our second annual Recovery Awareness Night on Saturday\, September 7 as the Marlins take on the Phillies.\nWe will host a pre-game panel where speakers will share their experiences with recovery and answer questions from the crowd. Each attendee will receive an exclusive Marlins ‘We Do Recover’ Shirt! Finally\, a portion of the ticket proceeds will directly support the Owen Foundation for Recovery. \nWe anticipate the West Plaza gates to open early at 2PM for attendees to arrive for the Recovery Awareness Panel. The panel will start at approximately 2:30PM and run until 3:30PM. At this time\, attendees will be directed into the stadium to purple out their section(s)! \nTo purchase your tickets\, follow the link below. Select sponsorship packages are also available and can be found via the below link. \nFor more information\, or if you have a group of 10+\, contact Antonio Diz at 305.480.1550 or ADiz@marlins.com.
URL:https://www.cluboasisaa.org/event/recovery-night-marlins-park/
LOCATION:Loan Depot Park\, 501 Marlins Way\, Miami\, FL\, 33125\, United States
ATTACH;FMTTYPE=image/png:https://www.cluboasisaa.org/wp-content/uploads/2023/08/Screenshot-2024-08-14-at-6.29.37 PM.png
ORGANIZER;CN="Club%20Oasis%20Inc.":MAILTO:cluboasisbod@gmail.com
END:VEVENT
END:VCALENDAR