BEGIN:VCALENDAR
VERSION:2.0
PRODID:-//Club Oasis - ECPv5.11.0//NONSGML v1.0//EN
CALSCALE:GREGORIAN
METHOD:PUBLISH
X-WR-CALNAME:Club Oasis
X-ORIGINAL-URL:https://www.cluboasisaa.org
X-WR-CALDESC:Events for Club Oasis
BEGIN:VTIMEZONE
TZID:UTC
BEGIN:STANDARD
TZOFFSETFROM:+0000
TZOFFSETTO:+0000
TZNAME:UTC
DTSTART:20230101T000000
END:STANDARD
END:VTIMEZONE
BEGIN:VEVENT
DTSTART;TZID=UTC:20230603T100000
DTEND;TZID=UTC:20230603T120000
DTSTAMP:20260425T014556
CREATED:20230405T221659Z
LAST-MODIFIED:20230405T221659Z
UID:2218-1685786400-1685793600@www.cluboasisaa.org
SUMMARY:Oasis Community Clean Up!
DESCRIPTION:Please come help Oasis keep our property clean! Club Oasis is having a voluntary property clean up Every 1st Saturday of the month! Just show up ready to get dirty and fellowship!   All are welcome!
URL:https://www.cluboasisaa.org/event/oasis-community-clean-up-6/
ATTACH;FMTTYPE=image/jpeg:https://www.cluboasisaa.org/wp-content/uploads/2023/01/cleaning-experts-essentials-buys-1657632352.jpeg
END:VEVENT
END:VCALENDAR