BEGIN:VCALENDAR
VERSION:2.0
PRODID:-//Club Oasis - ECPv5.11.0//NONSGML v1.0//EN
CALSCALE:GREGORIAN
METHOD:PUBLISH
X-WR-CALNAME:Club Oasis
X-ORIGINAL-URL:https://www.cluboasisaa.org
X-WR-CALDESC:Events for Club Oasis
BEGIN:VTIMEZONE
TZID:UTC
BEGIN:STANDARD
TZOFFSETFROM:+0000
TZOFFSETTO:+0000
TZNAME:UTC
DTSTART:20220101T000000
END:STANDARD
END:VTIMEZONE
BEGIN:VEVENT
DTSTART;TZID=UTC:20220729T190000
DTEND;TZID=UTC:20220729T210000
DTSTAMP:20260425T032905
CREATED:20220609T223316Z
LAST-MODIFIED:20220609T231619Z
UID:2134-1659121200-1659128400@www.cluboasisaa.org
SUMMARY:Oasis Bowling Party!
DESCRIPTION:Come Bowl with us! Oasis is hosting a bowling party at Bowlero in Jupiter! Purchase tickets at the Coffee Shop! \nThere are a limited amount of tickets\, so purchase soon! \n\n\n\n\nTicket 25 per ticket! Includes appetizer and soft drinks!
URL:https://www.cluboasisaa.org/event/oasis-bowling-party/
LOCATION:Bowlero Jupiter\, 350 Maplewood Dr\, Jupiter\, fl\, 33458
ATTACH;FMTTYPE=image/jpeg:https://www.cluboasisaa.org/wp-content/uploads/2022/06/bowling-image.jpeg
END:VEVENT
END:VCALENDAR