BEGIN:VCALENDAR
VERSION:2.0
PRODID:-//Club Oasis - ECPv5.11.0//NONSGML v1.0//EN
CALSCALE:GREGORIAN
METHOD:PUBLISH
X-WR-CALNAME:Club Oasis
X-ORIGINAL-URL:https://www.cluboasisaa.org
X-WR-CALDESC:Events for Club Oasis
BEGIN:VTIMEZONE
TZID:UTC
BEGIN:STANDARD
TZOFFSETFROM:+0000
TZOFFSETTO:+0000
TZNAME:UTC
DTSTART:20230101T000000
END:STANDARD
END:VTIMEZONE
BEGIN:VEVENT
DTSTART;TZID=UTC:20231209T190000
DTEND;TZID=UTC:20231209T210000
DTSTAMP:20260425T031033
CREATED:20231108T233909Z
LAST-MODIFIED:20231208T004510Z
UID:2307-1702148400-1702155600@www.cluboasisaa.org
SUMMARY:Oasis Annual Holiday Pot Luck PARTY!!
DESCRIPTION:Oasis is hosting it Annual Holiday Party! \nDecember 9th at the Club House from 7:00PM – 9:00PM \nIn the serenity garden at the club house! \nPlease Bring Your Favorite Holiday Dish or Treat!! \nFood\, Fun And Fellowship!! \n  \nVolunteers needed!! \nsee the snack bar for more details
URL:https://www.cluboasisaa.org/event/oasis-annual-holiday-party/
LOCATION:Club Oasis\, 10859 PROSPERITY FARMS ROAD\, PALM BEACH GARDENS\, FL\, 33410\, United States
ATTACH;FMTTYPE=image/png:https://www.cluboasisaa.org/wp-content/uploads/2023/11/Blue-Car-Doodle-Car-Wash-Fundraiser-Flyer-9.png
END:VEVENT
END:VCALENDAR