BEGIN:VCALENDAR
VERSION:2.0
PRODID:-//Club Oasis - ECPv5.11.0//NONSGML v1.0//EN
CALSCALE:GREGORIAN
METHOD:PUBLISH
X-WR-CALNAME:Club Oasis
X-ORIGINAL-URL:https://www.cluboasisaa.org
X-WR-CALDESC:Events for Club Oasis
BEGIN:VTIMEZONE
TZID:UTC
BEGIN:STANDARD
TZOFFSETFROM:+0000
TZOFFSETTO:+0000
TZNAME:UTC
DTSTART:20240101T000000
END:STANDARD
END:VTIMEZONE
BEGIN:VEVENT
DTSTART;TZID=UTC:20240910T173000
DTEND;TZID=UTC:20240910T190000
DTSTAMP:20260425T012537
CREATED:20240903T160650Z
LAST-MODIFIED:20240904T142028Z
UID:2524-1725989400-1725994800@www.cluboasisaa.org
SUMMARY:After Hours Group  "Meet The Big Book" Zoom Event
DESCRIPTION:Lyle P. WILL SHARE HIS STORY AS AUTHORED IN THE BIG BOOK story TITLED “GROUNDED”\, page 522. “From an alcoholic home in Kansas WWII housing project Lyle P. rose from a Private in the US Marine Corp. to a commissioned officer\, jet fighter pilot and decorated Vietnam veteran. He reached the pinnacle of commercial aviation as a captain for Northwest Airlines before a subtle slide into alcoholism culminated with an event that thrust him into the media spotlight with headlines all over the world. Shamed\, disgraced and stripped of his FFA credentials\, he became the first commercial pilot arrested\, tried and convicted for flying drunk. The trial judge imposed sanctions to ensure he would never fly again. He spent 16 months in the Federal Prison System.” \nWHAT: “AFTER HOURS GROUP” ONLINE ZOOM EVENT \nWHEN: TUESDAY\, SEPTEMBER 10* 5:30-7:00 PM. \nWHERE: ONLINE ZOOM ID # 250340364\, NO PASSWORD NEEDED\, ACTIVE/OPEN VIDEO TO BE ADMITTED IS NECESSARY\nVISIT OASIS CLUB WEBSITE FOR DIRECT LINK \n\nhttps://us04web.zoom.us/j/250340364\n\n  \n  \n 
URL:https://www.cluboasisaa.org/event/meet-the-big-book/
LOCATION:Club Oasis\, 10859 PROSPERITY FARMS ROAD\, PALM BEACH GARDENS\, FL\, 33410\, United States
ATTACH;FMTTYPE=image/png:https://www.cluboasisaa.org/wp-content/uploads/2024/09/Blue-Car-Doodle-Car-Wash-Fundraiser-Flyer-16.png
END:VEVENT
END:VCALENDAR