BEGIN:VCALENDAR
VERSION:2.0
PRODID:-//Club Oasis - ECPv5.11.0//NONSGML v1.0//EN
CALSCALE:GREGORIAN
METHOD:PUBLISH
X-WR-CALNAME:Club Oasis
X-ORIGINAL-URL:https://www.cluboasisaa.org
X-WR-CALDESC:Events for Club Oasis
BEGIN:VTIMEZONE
TZID:UTC
BEGIN:STANDARD
TZOFFSETFROM:+0000
TZOFFSETTO:+0000
TZNAME:UTC
DTSTART:20230101T000000
END:STANDARD
END:VTIMEZONE
BEGIN:VEVENT
DTSTART;TZID=UTC:20231218T120000
DTEND;TZID=UTC:20231218T123000
DTSTAMP:20260425T012911
CREATED:20231108T232329Z
LAST-MODIFIED:20231208T003951Z
UID:2305-1702900800-1702902600@www.cluboasisaa.org
SUMMARY:Holiday Food Drive!
DESCRIPTION:Oasis is having it Annual Food drive! \nNow through the 18th!!! \nBring Food and leave it at the snack bar!!! \n 
URL:https://www.cluboasisaa.org/event/holiday-toys-drive/
LOCATION:Club Oasis\, 10859 PROSPERITY FARMS ROAD\, PALM BEACH GARDENS\, FL\, 33410\, United States
ATTACH;FMTTYPE=image/png:https://www.cluboasisaa.org/wp-content/uploads/2023/11/Blue-Car-Doodle-Car-Wash-Fundraiser-Flyer-8.png
END:VEVENT
END:VCALENDAR