BEGIN:VCALENDAR
VERSION:2.0
PRODID:-//Club Oasis - ECPv5.11.0//NONSGML v1.0//EN
CALSCALE:GREGORIAN
METHOD:PUBLISH
X-WR-CALNAME:Club Oasis
X-ORIGINAL-URL:https://www.cluboasisaa.org
X-WR-CALDESC:Events for Club Oasis
BEGIN:VTIMEZONE
TZID:UTC
BEGIN:STANDARD
TZOFFSETFROM:+0000
TZOFFSETTO:+0000
TZNAME:UTC
DTSTART:20220101T000000
END:STANDARD
END:VTIMEZONE
BEGIN:VEVENT
DTSTART;TZID=UTC:20221202T173000
DTEND;TZID=UTC:20221202T183000
DTSTAMP:20260425T035247
CREATED:20221202T000057Z
LAST-MODIFIED:20221202T000057Z
UID:2183-1670002200-1670005800@www.cluboasisaa.org
SUMMARY:2nd Annual Club Oasis Holiday Toy Drive and Potluck!!
DESCRIPTION:Friday December 2nd immediately following the 5:30 meeting in the serenity garden! \nPlease keep all donated toys unwrapped!!
URL:https://www.cluboasisaa.org/event/2nd-annual-club-oasis-holiday-toy-drive-and-potluck/
LOCATION:Club Oasis\, 10859 PROSPERITY FARMS ROAD\, PALM BEACH GARDENS\, FL\, 33410\, United States
ATTACH;FMTTYPE=image/jpeg:https://www.cluboasisaa.org/wp-content/uploads/2022/12/ToyDrive2020.jpeg
END:VEVENT
END:VCALENDAR